BEGIN:VCALENDAR
VERSION:2.0
PRODID:-//Sachem&#039;s Head Yacht Club - ECPv6.15.20//NONSGML v1.0//EN
CALSCALE:GREGORIAN
METHOD:PUBLISH
X-ORIGINAL-URL:https://shyc.club
X-WR-CALDESC:Events for Sachem&#039;s Head Yacht Club
REFRESH-INTERVAL;VALUE=DURATION:PT1H
X-Robots-Tag:noindex
X-PUBLISHED-TTL:PT1H
BEGIN:VTIMEZONE
TZID:UTC
BEGIN:STANDARD
TZOFFSETFROM:+0000
TZOFFSETTO:+0000
TZNAME:UTC
DTSTART:20250101T000000
END:STANDARD
END:VTIMEZONE
BEGIN:VEVENT
DTSTART;VALUE=DATE:20260708
DTEND;VALUE=DATE:20260709
DTSTAMP:20260419T174455
CREATED:20260414T202651Z
LAST-MODIFIED:20260414T202651Z
UID:97883-1783468800-1783555199@shyc.club
SUMMARY:Guilford Cup PHRF
DESCRIPTION:
URL:https://shyc.club/event/guilford-cup-phrf-3/
END:VEVENT
BEGIN:VEVENT
DTSTART;TZID=UTC:20260708T173000
DTEND;TZID=UTC:20260708T200000
DTSTAMP:20260419T174455
CREATED:20260414T202653Z
LAST-MODIFIED:20260414T202653Z
UID:97884-1783531800-1783540800@shyc.club
SUMMARY:JR Entertainment Event #1
DESCRIPTION:
URL:https://shyc.club/event/jr-entertainment-event-1/
END:VEVENT
END:VCALENDAR