BEGIN:VCALENDAR
VERSION:2.0
PRODID:-//Sachem&#039;s Head Yacht Club - ECPv6.15.20//NONSGML v1.0//EN
CALSCALE:GREGORIAN
METHOD:PUBLISH
X-WR-CALNAME:Sachem&#039;s Head Yacht Club
X-ORIGINAL-URL:https://shyc.club
X-WR-CALDESC:Events for Sachem&#039;s Head Yacht Club
REFRESH-INTERVAL;VALUE=DURATION:PT1H
X-Robots-Tag:noindex
X-PUBLISHED-TTL:PT1H
BEGIN:VTIMEZONE
TZID:UTC
BEGIN:STANDARD
TZOFFSETFROM:+0000
TZOFFSETTO:+0000
TZNAME:UTC
DTSTART:20250101T000000
END:STANDARD
END:VTIMEZONE
BEGIN:VEVENT
DTSTART;TZID=UTC:20260711T090000
DTEND;TZID=UTC:20260711T130000
DTSTAMP:20260419T175714
CREATED:20260414T202657Z
LAST-MODIFIED:20260414T202657Z
UID:97887-1783760400-1783774800@shyc.club
SUMMARY:AM Lasers & Juniors — Series Race
DESCRIPTION:
URL:https://shyc.club/event/am-lasers-juniors-series-race-3/
END:VEVENT
BEGIN:VEVENT
DTSTART;TZID=UTC:20260711T130000
DTEND;TZID=UTC:20260711T160000
DTSTAMP:20260419T175714
CREATED:20260414T202658Z
LAST-MODIFIED:20260414T202658Z
UID:97888-1783774800-1783785600@shyc.club
SUMMARY:PM Sonars — Series Race
DESCRIPTION:
URL:https://shyc.club/event/pm-sonars-series-race-2/
END:VEVENT
END:VCALENDAR