BEGIN:VCALENDAR
VERSION:2.0
PRODID:-//Sachem&#039;s Head Yacht Club - ECPv6.15.20//NONSGML v1.0//EN
CALSCALE:GREGORIAN
METHOD:PUBLISH
X-ORIGINAL-URL:https://shyc.club
X-WR-CALDESC:Events for Sachem&#039;s Head Yacht Club
REFRESH-INTERVAL;VALUE=DURATION:PT1H
X-Robots-Tag:noindex
X-PUBLISHED-TTL:PT1H
BEGIN:VTIMEZONE
TZID:UTC
BEGIN:STANDARD
TZOFFSETFROM:+0000
TZOFFSETTO:+0000
TZNAME:UTC
DTSTART:20250101T000000
END:STANDARD
END:VTIMEZONE
BEGIN:VEVENT
DTSTART;VALUE=DATE:20260803
DTEND;VALUE=DATE:20260804
DTSTAMP:20260419T192020
CREATED:20260414T202724Z
LAST-MODIFIED:20260414T202724Z
UID:97910-1785715200-1785801599@shyc.club
SUMMARY:Jr. Programs Session C Start
DESCRIPTION:
URL:https://shyc.club/event/jr-programs-session-c-start/
END:VEVENT
END:VCALENDAR