BEGIN:VCALENDAR
VERSION:2.0
PRODID:-//Sachem&#039;s Head Yacht Club - ECPv6.15.20//NONSGML v1.0//EN
CALSCALE:GREGORIAN
METHOD:PUBLISH
X-ORIGINAL-URL:https://shyc.club
X-WR-CALDESC:Events for Sachem&#039;s Head Yacht Club
REFRESH-INTERVAL;VALUE=DURATION:PT1H
X-Robots-Tag:noindex
X-PUBLISHED-TTL:PT1H
BEGIN:VTIMEZONE
TZID:UTC
BEGIN:STANDARD
TZOFFSETFROM:+0000
TZOFFSETTO:+0000
TZNAME:UTC
DTSTART:20250101T000000
END:STANDARD
END:VTIMEZONE
BEGIN:VEVENT
DTSTART;VALUE=DATE:20260808
DTEND;VALUE=DATE:20260809
DTSTAMP:20260419T193034
CREATED:20260414T202730Z
LAST-MODIFIED:20260414T202730Z
UID:97916-1786147200-1786233599@shyc.club
SUMMARY:Coastal Classic
DESCRIPTION:
URL:https://shyc.club/event/coastal-classic/
END:VEVENT
BEGIN:VEVENT
DTSTART;TZID=UTC:20260808T090000
DTEND;TZID=UTC:20260808T130000
DTSTAMP:20260419T193034
CREATED:20260414T202728Z
LAST-MODIFIED:20260414T202728Z
UID:97914-1786179600-1786194000@shyc.club
SUMMARY:AM Lasers Series Race
DESCRIPTION:
URL:https://shyc.club/event/am-lasers-series-race/
END:VEVENT
BEGIN:VEVENT
DTSTART;TZID=UTC:20260808T130000
DTEND;TZID=UTC:20260808T180000
DTSTAMP:20260419T193034
CREATED:20260414T202729Z
LAST-MODIFIED:20260414T202729Z
UID:97915-1786194000-1786212000@shyc.club
SUMMARY:PM Coastal Classic PHRF
DESCRIPTION:
URL:https://shyc.club/event/pm-coastal-classic-phrf/
END:VEVENT
END:VCALENDAR