BEGIN:VCALENDAR
VERSION:2.0
PRODID:-//Sachem&#039;s Head Yacht Club - ECPv6.15.20//NONSGML v1.0//EN
CALSCALE:GREGORIAN
METHOD:PUBLISH
X-ORIGINAL-URL:https://shyc.club
X-WR-CALDESC:Events for Sachem&#039;s Head Yacht Club
REFRESH-INTERVAL;VALUE=DURATION:PT1H
X-Robots-Tag:noindex
X-PUBLISHED-TTL:PT1H
BEGIN:VTIMEZONE
TZID:UTC
BEGIN:STANDARD
TZOFFSETFROM:+0000
TZOFFSETTO:+0000
TZNAME:UTC
DTSTART:20250101T000000
END:STANDARD
END:VTIMEZONE
BEGIN:VEVENT
DTSTART;TZID=UTC:20260822T090000
DTEND;TZID=UTC:20260822T130000
DTSTAMP:20260419T193150
CREATED:20260414T202740Z
LAST-MODIFIED:20260414T202740Z
UID:97924-1787389200-1787403600@shyc.club
SUMMARY:AM Lasers Series Race
DESCRIPTION:
URL:https://shyc.club/event/am-lasers-series-race-3/
END:VEVENT
BEGIN:VEVENT
DTSTART;TZID=UTC:20260822T130000
DTEND;TZID=UTC:20260822T160000
DTSTAMP:20260419T193150
CREATED:20260414T202741Z
LAST-MODIFIED:20260414T202741Z
UID:97925-1787403600-1787414400@shyc.club
SUMMARY:PM Sonars — Series Race
DESCRIPTION:
URL:https://shyc.club/event/pm-sonars-series-race-6/
END:VEVENT
END:VCALENDAR