BEGIN:VCALENDAR
VERSION:2.0
PRODID:-//Sachem&#039;s Head Yacht Club - ECPv6.15.20//NONSGML v1.0//EN
CALSCALE:GREGORIAN
METHOD:PUBLISH
X-WR-CALNAME:Sachem&#039;s Head Yacht Club
X-ORIGINAL-URL:https://shyc.club
X-WR-CALDESC:Events for Sachem&#039;s Head Yacht Club
REFRESH-INTERVAL;VALUE=DURATION:PT1H
X-Robots-Tag:noindex
X-PUBLISHED-TTL:PT1H
BEGIN:VTIMEZONE
TZID:UTC
BEGIN:STANDARD
TZOFFSETFROM:+0000
TZOFFSETTO:+0000
TZNAME:UTC
DTSTART:20250101T000000
END:STANDARD
END:VTIMEZONE
BEGIN:VEVENT
DTSTART;TZID=UTC:20260905T090000
DTEND;TZID=UTC:20260905T130000
DTSTAMP:20260419T192954
CREATED:20260414T202749Z
LAST-MODIFIED:20260414T202749Z
UID:97932-1788598800-1788613200@shyc.club
SUMMARY:AM Lasers Series Race & Commodore Cup
DESCRIPTION:
URL:https://shyc.club/event/am-lasers-series-race-commodore-cup/
END:VEVENT
BEGIN:VEVENT
DTSTART;TZID=UTC:20260905T130000
DTEND;TZID=UTC:20260905T170000
DTSTAMP:20260419T192954
CREATED:20260414T202750Z
LAST-MODIFIED:20260414T202750Z
UID:97933-1788613200-1788627600@shyc.club
SUMMARY:PM Sonars & PHRF Series Finale
DESCRIPTION:
URL:https://shyc.club/event/pm-sonars-phrf-series-finale/
END:VEVENT
BEGIN:VEVENT
DTSTART;TZID=UTC:20260905T180000
DTEND;TZID=UTC:20260905T220000
DTSTAMP:20260419T192954
CREATED:20260414T202752Z
LAST-MODIFIED:20260414T202752Z
UID:97934-1788631200-1788645600@shyc.club
SUMMARY:Commodore’s Cocktail Party
DESCRIPTION:
URL:https://shyc.club/event/commodores-cocktail-party/
END:VEVENT
END:VCALENDAR