BEGIN:VCALENDAR
VERSION:2.0
PRODID:-//Sachem&#039;s Head Yacht Club - ECPv6.15.20//NONSGML v1.0//EN
CALSCALE:GREGORIAN
METHOD:PUBLISH
X-WR-CALNAME:Sachem&#039;s Head Yacht Club
X-ORIGINAL-URL:https://shyc.club
X-WR-CALDESC:Events for Sachem&#039;s Head Yacht Club
REFRESH-INTERVAL;VALUE=DURATION:PT1H
X-Robots-Tag:noindex
X-PUBLISHED-TTL:PT1H
BEGIN:VTIMEZONE
TZID:UTC
BEGIN:STANDARD
TZOFFSETFROM:+0000
TZOFFSETTO:+0000
TZNAME:UTC
DTSTART:20250101T000000
END:STANDARD
END:VTIMEZONE
BEGIN:VEVENT
DTSTART;TZID=UTC:20260607T080000
DTEND;TZID=UTC:20260607T170000
DTSTAMP:20260419T161942
CREATED:20260414T200823Z
LAST-MODIFIED:20260414T200823Z
UID:97865-1780819200-1780851600@shyc.club
SUMMARY:Pre-Season Launch Service — June 7
DESCRIPTION:
URL:https://shyc.club/event/pre-season-launch-service-june-7/
END:VEVENT
BEGIN:VEVENT
DTSTART;TZID=UTC:20260614T080000
DTEND;TZID=UTC:20260614T170000
DTSTAMP:20260419T161942
CREATED:20260414T200826Z
LAST-MODIFIED:20260414T200826Z
UID:97866-1781424000-1781456400@shyc.club
SUMMARY:Pre-Season Launch Service — June 14
DESCRIPTION:
URL:https://shyc.club/event/pre-season-launch-service-june-14/
END:VEVENT
BEGIN:VEVENT
DTSTART;TZID=UTC:20260620T130000
DTEND;TZID=UTC:20260620T170000
DTSTAMP:20260419T161942
CREATED:20260414T200828Z
LAST-MODIFIED:20260414T200828Z
UID:97867-1781960400-1781974800@shyc.club
SUMMARY:Opening Day — PM Sonars & PHRF
DESCRIPTION:
URL:https://shyc.club/event/opening-day-pm-sonars-phrf/
END:VEVENT
BEGIN:VEVENT
DTSTART;TZID=UTC:20260620T180000
DTEND;TZID=UTC:20260620T220000
DTSTAMP:20260419T161942
CREATED:20260414T200831Z
LAST-MODIFIED:20260414T200831Z
UID:97868-1781978400-1781992800@shyc.club
SUMMARY:Opening Day Cocktail Party
DESCRIPTION:
URL:https://shyc.club/event/opening-day-cocktail-party/
END:VEVENT
BEGIN:VEVENT
DTSTART;TZID=UTC:20260621T090000
DTEND;TZID=UTC:20260621T110000
DTSTAMP:20260419T161942
CREATED:20260414T200832Z
LAST-MODIFIED:20260414T200832Z
UID:97869-1782032400-1782039600@shyc.club
SUMMARY:Pancake Breakfast
DESCRIPTION:
URL:https://shyc.club/event/pancake-breakfast/
END:VEVENT
BEGIN:VEVENT
DTSTART;VALUE=DATE:20260622
DTEND;VALUE=DATE:20260623
DTSTAMP:20260419T161942
CREATED:20260414T200833Z
LAST-MODIFIED:20260414T200833Z
UID:97870-1782086400-1782172799@shyc.club
SUMMARY:Jr. Programs Session A Start
DESCRIPTION:
URL:https://shyc.club/event/jr-programs-session-a-start/
END:VEVENT
BEGIN:VEVENT
DTSTART;VALUE=DATE:20260624
DTEND;VALUE=DATE:20260625
DTSTAMP:20260419T161942
CREATED:20260414T200835Z
LAST-MODIFIED:20260414T200835Z
UID:97871-1782259200-1782345599@shyc.club
SUMMARY:Guilford Cup PHRF
DESCRIPTION:
URL:https://shyc.club/event/guilford-cup-phrf/
END:VEVENT
BEGIN:VEVENT
DTSTART;TZID=UTC:20260627T090000
DTEND;TZID=UTC:20260627T120000
DTSTAMP:20260419T161942
CREATED:20260414T200836Z
LAST-MODIFIED:20260414T200836Z
UID:97872-1782550800-1782561600@shyc.club
SUMMARY:AM Lasers & Juniors — Series Race
DESCRIPTION:
URL:https://shyc.club/event/am-lasers-juniors-series-race/
END:VEVENT
BEGIN:VEVENT
DTSTART;TZID=UTC:20260627T130000
DTEND;TZID=UTC:20260627T160000
DTSTAMP:20260419T161942
CREATED:20260414T200838Z
LAST-MODIFIED:20260414T200838Z
UID:97873-1782565200-1782576000@shyc.club
SUMMARY:PM Sonars — Series Race
DESCRIPTION:
URL:https://shyc.club/event/pm-sonars-series-race/
END:VEVENT
BEGIN:VEVENT
DTSTART;TZID=UTC:20260629T183000
DTEND;TZID=UTC:20260629T200000
DTSTAMP:20260419T161942
CREATED:20260414T200839Z
LAST-MODIFIED:20260414T200839Z
UID:97874-1782757800-1782763200@shyc.club
SUMMARY:Sunset Kayak #1
DESCRIPTION:
URL:https://shyc.club/event/sunset-kayak-1/
END:VEVENT
BEGIN:VEVENT
DTSTART;VALUE=DATE:20260701
DTEND;VALUE=DATE:20260702
DTSTAMP:20260419T161942
CREATED:20260414T200840Z
LAST-MODIFIED:20260414T200840Z
UID:97875-1782864000-1782950399@shyc.club
SUMMARY:Guilford Cup PHRF
DESCRIPTION:
URL:https://shyc.club/event/guilford-cup-phrf-2/
END:VEVENT
BEGIN:VEVENT
DTSTART;TZID=UTC:20260703T090000
DTEND;TZID=UTC:20260703T130000
DTSTAMP:20260419T161942
CREATED:20260414T200842Z
LAST-MODIFIED:20260414T200842Z
UID:97876-1783069200-1783083600@shyc.club
SUMMARY:July 4th Trophy — AM Lasers & Juniors
DESCRIPTION:
URL:https://shyc.club/event/july-4th-trophy-am-lasers-juniors/
END:VEVENT
BEGIN:VEVENT
DTSTART;TZID=UTC:20260703T130000
DTEND;TZID=UTC:20260703T170000
DTSTAMP:20260419T161942
CREATED:20260414T200843Z
LAST-MODIFIED:20260414T200843Z
UID:97877-1783083600-1783098000@shyc.club
SUMMARY:July 4th Trophy — PM Sonars & PHRF
DESCRIPTION:
URL:https://shyc.club/event/july-4th-trophy-pm-sonars-phrf/
END:VEVENT
BEGIN:VEVENT
DTSTART;TZID=UTC:20260704T090000
DTEND;TZID=UTC:20260704T130000
DTSTAMP:20260419T161942
CREATED:20260414T200844Z
LAST-MODIFIED:20260414T200844Z
UID:97878-1783155600-1783170000@shyc.club
SUMMARY:AM Lasers & Juniors — Series Race
DESCRIPTION:
URL:https://shyc.club/event/am-lasers-juniors-series-race-2/
END:VEVENT
BEGIN:VEVENT
DTSTART;TZID=UTC:20260704T130000
DTEND;TZID=UTC:20260704T170000
DTSTAMP:20260419T161942
CREATED:20260414T200845Z
LAST-MODIFIED:20260414T200845Z
UID:97879-1783170000-1783184400@shyc.club
SUMMARY:PM Sonars & PHRF — Series Race
DESCRIPTION:
URL:https://shyc.club/event/pm-sonars-phrf-series-race/
END:VEVENT
BEGIN:VEVENT
DTSTART;TZID=UTC:20260704T180000
DTEND;TZID=UTC:20260704T230000
DTSTAMP:20260419T161942
CREATED:20260414T202646Z
LAST-MODIFIED:20260414T202646Z
UID:97880-1783188000-1783206000@shyc.club
SUMMARY:Fourth of July Dinner Dance
DESCRIPTION:
URL:https://shyc.club/event/fourth-of-july-dinner-dance/
END:VEVENT
BEGIN:VEVENT
DTSTART;VALUE=DATE:20260706
DTEND;VALUE=DATE:20260707
DTSTAMP:20260419T161942
CREATED:20260414T202649Z
LAST-MODIFIED:20260414T202649Z
UID:97881-1783296000-1783382399@shyc.club
SUMMARY:Jr. Programs Session B Start
DESCRIPTION:
URL:https://shyc.club/event/jr-programs-session-b-start/
END:VEVENT
BEGIN:VEVENT
DTSTART;TZID=UTC:20260707T180000
DTEND;TZID=UTC:20260707T200000
DTSTAMP:20260419T161942
CREATED:20260414T202650Z
LAST-MODIFIED:20260414T202650Z
UID:97882-1783447200-1783454400@shyc.club
SUMMARY:Women’s Sailing #1
DESCRIPTION:
URL:https://shyc.club/event/womens-sailing-1/
END:VEVENT
BEGIN:VEVENT
DTSTART;VALUE=DATE:20260708
DTEND;VALUE=DATE:20260709
DTSTAMP:20260419T161942
CREATED:20260414T202651Z
LAST-MODIFIED:20260414T202651Z
UID:97883-1783468800-1783555199@shyc.club
SUMMARY:Guilford Cup PHRF
DESCRIPTION:
URL:https://shyc.club/event/guilford-cup-phrf-3/
END:VEVENT
BEGIN:VEVENT
DTSTART;TZID=UTC:20260708T173000
DTEND;TZID=UTC:20260708T200000
DTSTAMP:20260419T161942
CREATED:20260414T202653Z
LAST-MODIFIED:20260414T202653Z
UID:97884-1783531800-1783540800@shyc.club
SUMMARY:JR Entertainment Event #1
DESCRIPTION:
URL:https://shyc.club/event/jr-entertainment-event-1/
END:VEVENT
BEGIN:VEVENT
DTSTART;TZID=UTC:20260709T173000
DTEND;TZID=UTC:20260709T210000
DTSTAMP:20260419T161942
CREATED:20260414T202654Z
LAST-MODIFIED:20260414T202654Z
UID:97885-1783618200-1783630800@shyc.club
SUMMARY:Thursday Night Dinner I
DESCRIPTION:
URL:https://shyc.club/event/thursday-night-dinner-i/
END:VEVENT
BEGIN:VEVENT
DTSTART;VALUE=DATE:20260710
DTEND;VALUE=DATE:20260711
DTSTAMP:20260419T161942
CREATED:20260414T202655Z
LAST-MODIFIED:20260414T202655Z
UID:97886-1783641600-1783727999@shyc.club
SUMMARY:SHYC Jr. Regatta
DESCRIPTION:
URL:https://shyc.club/event/shyc-jr-regatta/
END:VEVENT
BEGIN:VEVENT
DTSTART;TZID=UTC:20260711T090000
DTEND;TZID=UTC:20260711T130000
DTSTAMP:20260419T161942
CREATED:20260414T202657Z
LAST-MODIFIED:20260414T202657Z
UID:97887-1783760400-1783774800@shyc.club
SUMMARY:AM Lasers & Juniors — Series Race
DESCRIPTION:
URL:https://shyc.club/event/am-lasers-juniors-series-race-3/
END:VEVENT
BEGIN:VEVENT
DTSTART;TZID=UTC:20260711T130000
DTEND;TZID=UTC:20260711T160000
DTSTAMP:20260419T161942
CREATED:20260414T202658Z
LAST-MODIFIED:20260414T202658Z
UID:97888-1783774800-1783785600@shyc.club
SUMMARY:PM Sonars — Series Race
DESCRIPTION:
URL:https://shyc.club/event/pm-sonars-series-race-2/
END:VEVENT
BEGIN:VEVENT
DTSTART;TZID=UTC:20260714T180000
DTEND;TZID=UTC:20260714T200000
DTSTAMP:20260419T161942
CREATED:20260414T202659Z
LAST-MODIFIED:20260414T202659Z
UID:97889-1784052000-1784059200@shyc.club
SUMMARY:Women’s Sailing #2
DESCRIPTION:
URL:https://shyc.club/event/womens-sailing-2/
END:VEVENT
BEGIN:VEVENT
DTSTART;TZID=UTC:20260714T180000
DTEND;TZID=UTC:20260714T220000
DTSTAMP:20260419T161942
CREATED:20260414T202700Z
LAST-MODIFIED:20260414T202700Z
UID:97890-1784052000-1784066400@shyc.club
SUMMARY:Men’s Steak Night
DESCRIPTION:
URL:https://shyc.club/event/mens-steak-night/
END:VEVENT
BEGIN:VEVENT
DTSTART;VALUE=DATE:20260715
DTEND;VALUE=DATE:20260716
DTSTAMP:20260419T161942
CREATED:20260414T202702Z
LAST-MODIFIED:20260414T202702Z
UID:97891-1784073600-1784159999@shyc.club
SUMMARY:Guilford Cup PHRF
DESCRIPTION:
URL:https://shyc.club/event/guilford-cup-phrf-4/
END:VEVENT
BEGIN:VEVENT
DTSTART;TZID=UTC:20260717T180000
DTEND;TZID=UTC:20260717T210000
DTSTAMP:20260419T161942
CREATED:20260414T202703Z
LAST-MODIFIED:20260414T202703Z
UID:97892-1784311200-1784322000@shyc.club
SUMMARY:Sachem’s Head Sunsets I
DESCRIPTION:
URL:https://shyc.club/event/sachems-head-sunsets-i/
END:VEVENT
BEGIN:VEVENT
DTSTART;TZID=UTC:20260718T090000
DTEND;TZID=UTC:20260718T130000
DTSTAMP:20260419T161942
CREATED:20260414T202705Z
LAST-MODIFIED:20260414T202705Z
UID:97893-1784365200-1784379600@shyc.club
SUMMARY:AM Lasers & Juniors — Series Race
DESCRIPTION:
URL:https://shyc.club/event/am-lasers-juniors-series-race-4/
END:VEVENT
BEGIN:VEVENT
DTSTART;TZID=UTC:20260718T130000
DTEND;TZID=UTC:20260718T160000
DTSTAMP:20260419T161942
CREATED:20260414T202706Z
LAST-MODIFIED:20260414T202706Z
UID:97894-1784379600-1784390400@shyc.club
SUMMARY:PM Sonars & PHRF Staggered Start — Series Race
DESCRIPTION:
URL:https://shyc.club/event/pm-sonars-phrf-staggered-start-series-race/
END:VEVENT
END:VCALENDAR