BEGIN:VCALENDAR
VERSION:2.0
PRODID:-//Sachem&#039;s Head Yacht Club - ECPv6.15.20//NONSGML v1.0//EN
CALSCALE:GREGORIAN
METHOD:PUBLISH
X-ORIGINAL-URL:https://shyc.club
X-WR-CALDESC:Events for Sachem&#039;s Head Yacht Club
REFRESH-INTERVAL;VALUE=DURATION:PT1H
X-Robots-Tag:noindex
X-PUBLISHED-TTL:PT1H
BEGIN:VTIMEZONE
TZID:UTC
BEGIN:STANDARD
TZOFFSETFROM:+0000
TZOFFSETTO:+0000
TZNAME:UTC
DTSTART:20250101T000000
END:STANDARD
END:VTIMEZONE
BEGIN:VEVENT
DTSTART;TZID=UTC:20260822T130000
DTEND;TZID=UTC:20260822T160000
DTSTAMP:20260420T065440
CREATED:20260414T202741Z
LAST-MODIFIED:20260414T202741Z
UID:97925-1787403600-1787414400@shyc.club
SUMMARY:PM Sonars — Series Race
DESCRIPTION:
URL:https://shyc.club/event/pm-sonars-series-race-6/
END:VEVENT
BEGIN:VEVENT
DTSTART;VALUE=DATE:20260826
DTEND;VALUE=DATE:20260827
DTSTAMP:20260420T065440
CREATED:20260414T202742Z
LAST-MODIFIED:20260414T202742Z
UID:97926-1787702400-1787788799@shyc.club
SUMMARY:Guilford Cup PHRF
DESCRIPTION:
URL:https://shyc.club/event/guilford-cup-phrf-10/
END:VEVENT
BEGIN:VEVENT
DTSTART;TZID=UTC:20260828T183000
DTEND;TZID=UTC:20260828T200000
DTSTAMP:20260420T065440
CREATED:20260414T202744Z
LAST-MODIFIED:20260414T202744Z
UID:97927-1787941800-1787947200@shyc.club
SUMMARY:Sunset Kayak #3
DESCRIPTION:
URL:https://shyc.club/event/sunset-kayak-3/
END:VEVENT
BEGIN:VEVENT
DTSTART;TZID=UTC:20260829T090000
DTEND;TZID=UTC:20260829T130000
DTSTAMP:20260420T065440
CREATED:20260414T202745Z
LAST-MODIFIED:20260414T202745Z
UID:97928-1787994000-1788008400@shyc.club
SUMMARY:AM Lasers Series Race
DESCRIPTION:
URL:https://shyc.club/event/am-lasers-series-race-4/
END:VEVENT
BEGIN:VEVENT
DTSTART;TZID=UTC:20260829T130000
DTEND;TZID=UTC:20260829T160000
DTSTAMP:20260420T065440
CREATED:20260414T202746Z
LAST-MODIFIED:20260414T202746Z
UID:97929-1788008400-1788019200@shyc.club
SUMMARY:PM Sonars — Series Race
DESCRIPTION:
URL:https://shyc.club/event/pm-sonars-series-race-7/
END:VEVENT
BEGIN:VEVENT
DTSTART;VALUE=DATE:20260902
DTEND;VALUE=DATE:20260903
DTSTAMP:20260420T065440
CREATED:20260414T202747Z
LAST-MODIFIED:20260414T202747Z
UID:97930-1788307200-1788393599@shyc.club
SUMMARY:Guilford Cup PHRF
DESCRIPTION:
URL:https://shyc.club/event/guilford-cup-phrf-11/
END:VEVENT
BEGIN:VEVENT
DTSTART;TZID=UTC:20260904T180000
DTEND;TZID=UTC:20260904T210000
DTSTAMP:20260420T065440
CREATED:20260414T202748Z
LAST-MODIFIED:20260414T202748Z
UID:97931-1788544800-1788555600@shyc.club
SUMMARY:Annual Meeting
DESCRIPTION:
URL:https://shyc.club/event/annual-meeting/
END:VEVENT
BEGIN:VEVENT
DTSTART;TZID=UTC:20260905T090000
DTEND;TZID=UTC:20260905T130000
DTSTAMP:20260420T065440
CREATED:20260414T202749Z
LAST-MODIFIED:20260414T202749Z
UID:97932-1788598800-1788613200@shyc.club
SUMMARY:AM Lasers Series Race & Commodore Cup
DESCRIPTION:
URL:https://shyc.club/event/am-lasers-series-race-commodore-cup/
END:VEVENT
BEGIN:VEVENT
DTSTART;TZID=UTC:20260905T130000
DTEND;TZID=UTC:20260905T170000
DTSTAMP:20260420T065440
CREATED:20260414T202750Z
LAST-MODIFIED:20260414T202750Z
UID:97933-1788613200-1788627600@shyc.club
SUMMARY:PM Sonars & PHRF Series Finale
DESCRIPTION:
URL:https://shyc.club/event/pm-sonars-phrf-series-finale/
END:VEVENT
BEGIN:VEVENT
DTSTART;TZID=UTC:20260905T180000
DTEND;TZID=UTC:20260905T220000
DTSTAMP:20260420T065440
CREATED:20260414T202752Z
LAST-MODIFIED:20260414T202752Z
UID:97934-1788631200-1788645600@shyc.club
SUMMARY:Commodore’s Cocktail Party
DESCRIPTION:
URL:https://shyc.club/event/commodores-cocktail-party/
END:VEVENT
BEGIN:VEVENT
DTSTART;TZID=UTC:20260906T160000
DTEND;TZID=UTC:20260906T200000
DTSTAMP:20260420T065440
CREATED:20260414T202753Z
LAST-MODIFIED:20260414T202753Z
UID:97935-1788710400-1788724800@shyc.club
SUMMARY:Awards Ceremony & Picnic
DESCRIPTION:
URL:https://shyc.club/event/awards-ceremony-picnic/
END:VEVENT
BEGIN:VEVENT
DTSTART;TZID=UTC:20260907T090000
DTEND;TZID=UTC:20260907T130000
DTSTAMP:20260420T065440
CREATED:20260414T202754Z
LAST-MODIFIED:20260414T202754Z
UID:97936-1788771600-1788786000@shyc.club
SUMMARY:Labor Day Trophy — AM Lasers & Juniors
DESCRIPTION:
URL:https://shyc.club/event/labor-day-trophy-am-lasers-juniors/
END:VEVENT
BEGIN:VEVENT
DTSTART;TZID=UTC:20260907T120000
DTEND;TZID=UTC:20260907T150000
DTSTAMP:20260420T065440
CREATED:20260414T202755Z
LAST-MODIFIED:20260414T202755Z
UID:97937-1788782400-1788793200@shyc.club
SUMMARY:Labor Day Awards
DESCRIPTION:
URL:https://shyc.club/event/labor-day-awards-2/
END:VEVENT
BEGIN:VEVENT
DTSTART;TZID=UTC:20260907T130000
DTEND;TZID=UTC:20260907T170000
DTSTAMP:20260420T065440
CREATED:20260414T202756Z
LAST-MODIFIED:20260414T202756Z
UID:97938-1788786000-1788800400@shyc.club
SUMMARY:Labor Day Trophy — PM Sonars & PHRF
DESCRIPTION:
URL:https://shyc.club/event/labor-day-trophy-pm-sonars-phrf/
END:VEVENT
BEGIN:VEVENT
DTSTART;TZID=UTC:20260907T170000
DTEND;TZID=UTC:20260907T200000
DTSTAMP:20260420T065440
CREATED:20260414T202757Z
LAST-MODIFIED:20260414T202757Z
UID:97939-1788800400-1788811200@shyc.club
SUMMARY:After Racing Awards — Labor Day
DESCRIPTION:
URL:https://shyc.club/event/after-racing-awards-labor-day/
END:VEVENT
BEGIN:VEVENT
DTSTART;TZID=UTC:20260913T080000
DTEND;TZID=UTC:20260913T170000
DTSTAMP:20260420T065440
CREATED:20260414T202758Z
LAST-MODIFIED:20260414T202758Z
UID:97940-1789286400-1789318800@shyc.club
SUMMARY:Post-Season Launch Service
DESCRIPTION:
URL:https://shyc.club/event/post-season-launch-service/
END:VEVENT
BEGIN:VEVENT
DTSTART;TZID=UTC:20260920T080000
DTEND;TZID=UTC:20260920T170000
DTSTAMP:20260420T065440
CREATED:20260414T202800Z
LAST-MODIFIED:20260414T202800Z
UID:97941-1789891200-1789923600@shyc.club
SUMMARY:Post-Season Launch Service
DESCRIPTION:
URL:https://shyc.club/event/post-season-launch-service-2/
END:VEVENT
END:VCALENDAR