BEGIN:VCALENDAR
VERSION:2.0
PRODID:-//Sachem&#039;s Head Yacht Club - ECPv6.15.20//NONSGML v1.0//EN
CALSCALE:GREGORIAN
METHOD:PUBLISH
X-WR-CALNAME:Sachem&#039;s Head Yacht Club
X-ORIGINAL-URL:https://shyc.club
X-WR-CALDESC:Events for Sachem&#039;s Head Yacht Club
REFRESH-INTERVAL;VALUE=DURATION:PT1H
X-Robots-Tag:noindex
X-PUBLISHED-TTL:PT1H
BEGIN:VTIMEZONE
TZID:UTC
BEGIN:STANDARD
TZOFFSETFROM:+0000
TZOFFSETTO:+0000
TZNAME:UTC
DTSTART:20240101T000000
END:STANDARD
END:VTIMEZONE
BEGIN:VEVENT
DTSTART;TZID=UTC:20250802T170000
DTEND;TZID=UTC:20250802T200000
DTSTAMP:20260423T161149
CREATED:20240215T162602Z
LAST-MODIFIED:20250316T231840Z
UID:96640-1754154000-1754164800@shyc.club
SUMMARY:Family Fun Night
DESCRIPTION:
URL:https://shyc.club/event/family-fun-night/
END:VEVENT
BEGIN:VEVENT
DTSTART;TZID=UTC:20250823T170000
DTEND;TZID=UTC:20250823T210000
DTSTAMP:20260423T161149
CREATED:20250317T215541Z
LAST-MODIFIED:20250716T201850Z
UID:97402-1755968400-1755982800@shyc.club
SUMMARY:Sachem's Head Rendezvous at Port Jeff
DESCRIPTION:
URL:https://shyc.club/event/sachems-head-rendezvous-at-port-jeff/
END:VEVENT
BEGIN:VEVENT
DTSTART;TZID=UTC:20250830T180000
DTEND;TZID=UTC:20250830T230000
DTSTAMP:20260423T161149
CREATED:20240215T163021Z
LAST-MODIFIED:20250316T230032Z
UID:96654-1756576800-1756594800@shyc.club
SUMMARY:Commodore's Ball
DESCRIPTION:
URL:https://shyc.club/event/commodores-ball/
END:VEVENT
END:VCALENDAR